Workbook

Sheet objectes infantils indueixen
A1: minut | B1: timing precís | C1: Anàlisi Joan | D1: timing precís | E1: Anàlisi Rosa | F1: timing precís | G1: Anàlisi Edu | H1: Anàlisi qualitatiu Joan | I1: Anàlisi qualitatiu Edu | J1: Unitat de registre (Bardin) | K1: Direcció hipòtesi | L1: Intensitat | N1: timing precís | O1: Secció | P1: Intervenció prevista | Q1: Intervenció real
A2: 0 | B2: 0 | C2: explicació | D2: 0.017361111 | E2: Les persones es poden en mitja rotllana i el Joan llegeix un poema. Una noia fa fotos. | J2: Pertinença a un col·lectiu | K2: + | L2: 1 | N2: 0 | O2: explicació
A3: 1 | D3: 0.056944444 | E3: Aplaudeixen una mica | J3: Pertinença a un col·lectiu | K3: + | L3: 1
A4: 2
A5: 3 | B5: 0.14583333 | C5: Observar, reconeixement de l'espai (Joan). Timidesa general. Poc moviment. Joc amb globus | D5: 0.14236111 | E5: Tornen a aplaudir i es dispersen | J5: Posar un objecte de disfressa | K5: + | L5: 2 | N5: 0.14583333 | O5: Pulse 1 | P5: Observar, reconeixement de l'espai. Posar uns collarets Hawaians | Q5: Observar, reconeixement de l'espai. Posar uns collarets Hawaians
A6: 4 | D6: 0.15277778 | E6: Es mouen poc a poc com fent estiraments. Altres caminen per la sala. | F6: 0.16111111 | G6: Comença la sessió (gent acomodant-se), passejant tímidament encara en rotllana. (moviments en general tímids i poc arriscats). Moviments poc rítmics excepte un home a l’esquerra | J6: Baix volum sonor | K6: - | L6: -1
A7: 5 | D7: 0.19305556 | E7: Algú comença a fer volar els globus cap amunt i altres s'hi afegeixen. | J7: Joc amb globus | K7: + | L7: 2
A8: 6 | F8: 0.25 | G8: Gent comença a moure’s de manera més independent, estiraments es trenca una mica la rotllana
A9: 7 | B9: 0.32291667 | C9: Expectatives, canvi de rols. Em poso darrere l'equip i em miren. Encara moviments tímids. Alguns comencen a ballar. | D9: 0.29861111 | E9: Hi han ràfegues de més llum i menys llum. | F9: 0.3125 | G9: Sembla que entri un beat perquè un parell de persones comencen a ballar al tempo i mirar al Joan. Més canvis de música i moviments més ràpids i seguits | H9: Aquí la performance enganya, perquè sembla que vindrà algun moment potent, i no | J9: Volum sonor creixent | K9: + | L9: 2 | N9: 0.32291667 | O9: secció 1 | P9: Delays tímids | Q9: Delays tímids
A10: 8 | F10: 0.36805556 | G10: Moviments molt efusius i repetitius. Sembla moment àlgid de la música. S’assembla a moment disco | J10: Música repetitiva | K10: + | L10: 2
A11: 9 | J11: Música repetitiva | K11: + | L11: 2
A12: 10 | B12: 0.4375 | C12: Les balladores es posen en grup a la part central. Es miren i interactuen amb globus | J12: Joc amb globus | K12: + | L12: 1
A13: 11 | B13: 0.46875 | C13: Augmenta el moviment | F13: 0.45833333 | G13: Sembla que es relaxa tot una mica, els moviments són menys efusius i menys marcats a un beat | H13: Els "dancers" responen al dinamisme | J13: Música repetitiva | K13: + | L13: 2 | N13: 0.46875 | O13: Secció 2 - més groove i greus | P13: filtres breus per donar dinamisme | Q13: filtres breus per donar dinamisme
A14: 12 | B14: 0.52083333 | C14: Moviment individualitzat, no en grups, voltes en sí mateixes | D14: 0.52083333 | E14: Hi ha persones que comencen a fer moviments més enèrgics, fan voltes sobre si mateixes i es mouen més ràpid. | F14: 0.50208333 | G14: Es generen interaccions entre parelles de gent | J14: Connexións interpersonals en parelles | K14: - | L14: -1
A15: 13 | B15: 0.54166667 | C15: Interaccions verbals (Angel i Sara, Lluís i Vani) | F15: 0.56666667 | G15: Energia bastant baixa, la gent continua movente-se però sembla que la intensitat de la música ha baixat bastant. Coincideix amb les llums bastant baixes d’intensitat | J15: llums baixa intensitat | K15: - | L15: -2
A16: 14 | B16: 0.61111111 | C16: Moment de dubtes, més quiets | D16: 0.6125 | E16: Comencen a fer moviments més suaus. | J16: Baix volum sonor | K16: - | L16: -2 | N16: 0.61111111 | O16: Secció 3A. Canvi músical
A17: 15 | B17: 0.6875 | C17: El grup es dispersa per la sala | D17: 0.66319444 | E17: Tornen a llençar els globus pels aires i a xutar-los. | F17: 0.63888889 | G17: Sembla que la música comença a animar-se, la gent torna a ballar més efusivament: mitja intensitat | J17: Joc amb globus | K17: + | L17: 1
A18: 16 | F18: 0.66666667 | G18: Molta gent jugant amb els globus: la gent s’ha expandit més per la sala. Torna moment de la gent més parada | J18: Joc amb globus | K18: - | L18: -1 | N18: 0.72916667 | P18: Trencar el tema. Repeat, delay | Q18: Secció d'efectes repetitius, es "para" el temps
A19: 17 | B19: 0.72916667 | C19: La gent es queda parada. Després mouen els braços com flotant. El canvi arriba en un moment en que algunes començaven a ballar | D19: 0.78958333 | E19: Una persona s'acosta a on està el Joan i després se'n va. | F19: 0.73611111 | G19: Sembla que torna a pujar la música (Hi ha com un moment concret 17:42 que sembla que peti una pujada a la música, la gent va com pujant intensitat I aquí allibera una mica) | J19: Música no repetitiva | K19: - | L19: -3 | P19: Reverbs + joc amb salts continus "insterts", moment muntage cinematogràfic | Q19: no realitzat
A20: 18 | B20: 0.76041667 | C20: Torna un ball amb el cap aixecat mirant cap a mi en alguns casos. Tall de rotllo | D20: 0.80486111 | E20: La mateixa persona li fa un petó i una abraçada a una altra. | F20: 0.77083333 | G20: Gent s’anima, molt moviment, molt cap a dins o sobre ells mateixes (mirant amunt, fent voltes, explorant amb el seu cos). | H20: Els canvis continus no permeten crear dinàmiques de grup que es consolidin | I20: El sector esquerre de la sala sembla més animat en general, i el mitjà més parat. Fa una estona que hi ha un grup que no reacciona massa a canvis | J20: Connexións interpersonals en parelles | K20: - | L20: -1 | N20: 0.76041667 | O20: Secció 3B Indiepop | Q20: Salt a aquesta secció coincidint amb la fi del moment amb efectes
A21: 19 | B21: 0.8125 | C21: Moment més expansiu | D21: 0.84305556 | E21: Una noia se'n va de la sala. | F21: 0.80555556 | G21: Tothom molt moviment generalitzat. Molt balanceig I exploració amb els braços. | J21: individualització | K21: - | L21: -3
A22: 20 | B22: 0.83333333 | C22: Algu es deixa anar amb els braços | D22: 0.85902778 | E22: La noia torna a la sala. | J22: Música repetitiva | K22: + | L22: 1 | N22: 0.83333333 | O22: (secció 3B) | Q22: Efecte reverb i LPF
A23: 21 | B23: 0.85416667 | C23: Ball més generalitzat però amb menys espai, introspectiu, repetitiu | D23: 0.91458333 | E23: El Joan surt de la posició de dj per una moments i es posa a ballar a la sala. | F23: 0.875 | G23: Moment màxim d'expansió per la sala | J23: Música repetitiva | K23: + | L23: 2 | N23: 0.85416667 | O23: Secció V, amb bombo | Q23: salt directe cap a aquesta secció sense fer la IV
A24: 22 | B24: 0.98958333 | C24: Interacció al fons de la sala | F24: 0.89583333 | G24: Sembla que el beat ha pujat intensitat.La gent balla amb més energia, s’encenen les llums (sembla com moment èxtasis) Llums enceses | J24: llums alta intensitat | K24: + | L24: 3 | P24: slow down tempo | Q24: no realitzat aquí, sinó més tard
A25: 23
A26: 24 | B26: 1.03125 | C26: El grup s'ajunta i algu interactua més | D26: 1.0069444 | E26: Hi ha dos persones al fondo que ballen enèrgicament fent saltirons per la sala i moviments de braços. | F26: 1.00625 | I26: A vegades costa treure conclusions per la disparitat entre els moviments de diferents parts de la sala | J26: tempo inestable | K26: - | L26: -1 | N26: 1 | Q26: Error tècnic amb el tempo, que va fluctuar
A27: 25 | B27: 1.0625 | C27: Major moviment, tothom ballant | D27: 1.0416667 | E27: Una parella ballen junts. | F27: 1.0555556 | G27: Han baixat les llums i els moviments de la gent poc a poc també. Tornen a pases més rítmiques amb el beat però el cos més estàtic | H27: Els moviments més energètics i amb Bombo a negres movilitzen els balladors | J27: Música repetitiva | K27: + | L27: 3 | N27: 1.0625 | O27: Secció VI. Drum & Bass | P27: hpf+bitcrush | Q27: Hpf+bitcrush
A28: 26 | B28: 1.1041667 | C28: Decideixo no tocar res | D28: 1.0833333 | E28: Una persona salta. | F28: 1.1048611 | G28: Sembla que els moviments poc a poc tornen a agafar força, la gent comença a ballar amb més intensitat i més ràpid | J28: Música repetitiva | K28: + | L28: 3
A29: 27 | B29: 1.1458333 | C29: Algú s'activa més encara | J29: Música repetitiva | K29: + | L29: 3 | N29: 1.1458333 | P29: Música Half tempo | Q29: Música Half tempo
A30: 28 | J30: Música repetitiva | K30: + | L30: 3
A31: 29 | B31: 1.2083333 | C31: El canvi torna a portar poc moviment i més ralentitzat | D31: 1.2416667 | E31: Els moviments són més suaus. | F31: 1.2222222 | G31: La gent es queda una mica més parada tot i que no sé si és per cansanci o què, per què hi ha un parell de persones a l’esquerra que continuen ballant molt enèrgicament | H31: El bombo a negres i el LPF constitueixen un contrast que cadascú interpreta diferent | J31: Low Pass Filter | K31: - | L31: -1 | N31: 1.2083333 | O31: Secció VII | P31: tempo + ràpid, LPF+punch | Q31: tempo + ràpid, LPF+punch
A32: 30 | B32: 1.2708333 | C32: La Maria R. s'estira, altres van a càmera lenta | F32: 1.2701389 | G32: Moviments més Lent i expansius (gent pel terra, braços amunt) | J32: Low Pass Filter | K32: - | L32: -1
A33: 31 | B33: 1.2916667 | C33: Trec el LPF i es comencen a activar | D33: 1.2916667 | E33: Una persona està asseguda al terra movent el cap suaument. | J33: Volum sonor creixent | K33: + | L33: 2 | N33: 1.2916667 | Q33: Trec el LPF
A34: 32 | B34: 1.3472222 | C34: Ball més divertit i joc amb globus | J34: Joc amb globus | K34: + | L34: 2 | N34: 1.3472222 | O34: Secció VIII - House | P34: filtres i jam d'fx | Q34: filtres i jam d'fx, mutejar percussions
A35: 33 | B35: 1.3958333 | C35: Comença efecte tempo slow-down. Mínim moviment, alguns caps abaixats, i moviments a càmera lenta | D35: 1.375 | E35: La persona s'aixeca. | F35: 1.3763889 | G35: Tothom bastant més baixa energia, tornen a moviment automàtic (passes al beat quiets al bloc) | J35: Baixada de tempo | K35: + | L35: 1
A36: 34 | D36: 1.4166667 | E36: Tots es queden molt quiets i fan moviment pausats. | F36: 1.4347222 | G36: Es ralentitzen els moviments, i són més expansius | H36: L'efecte de ralentir i accelerar el tempo és clar i fàcil d'interpretar pels balladors | J36: Baixada de tempo | K36: + | L36: 1
A37: 35 | B37: 1.4583333 | C37: Torna a pujar el tempo. S'entén i tohom es va activant | F37: 1.4576389 | G37: Comencen a animar-se moviments un altre cop després de moment d’estar quasi parats | J37: Pujada de tempo | K37: + | L37: 3
A38: 36 | B38: 1.5 | C38: Ball repetitiu | D38: 1.5 | E38: Una persona s'ha estirat a terra. | J38: Música repetitiva | K38: - | L38: -1 | O38: Secció IX | P38: tempo inicial | Q38: no realitzat
A39: 37 | B39: 1.5416667 | C39: Comença el tancament. Dues persones van a terra, altres encara tenen ganes de ballar | D39: 1.5416667 | E39: Una altra persona s'ha assegut al terra i agafa dos globus. | J39: Joc amb globus | K39: - | L39: -1 | N39: 1.6041667 | O39: Secció X | P39: res | Q39: salt directe cap a aquesta secció sense fer la IX
A40: 38 | B40: 1.6041667 | C40: Baixa el moviment. La gent torna a explorar l'espai | F40: 1.6076389 | G40: Moviments més lents de sobte
A41: 39 | D41: 1.6423611 | E41: El Joan és desplaça a la sala i després torna a la posició de dj. | F41: 1.6451389 | G41: Moviments repetitius expansius amb més força (sembla que hi ha gent q começa a estar més cansada perquè no varia gaire els moviments) | H41: A partir d'un cert moment apareix el cansament en alguns balladors quan la música baixa d'intensitat
A42: 40 | B42: 1.6666667 | C42: Estiraments i introspecció | D42: 1.6666667 | E42: La persona que estava estirada al terra s'aixeca. La persona que estava asseguda també. | F42: 1.6930556 | G42: Moviments expansius, girant amb braços oberts | J42: Baix volum sonor | K42: - | L42: -3 | N42: 1.6666667 | O42: Secció XI | P42: Fade out progressiu
A43: 41 | D43: 1.7201389 | E43: Una persona arrossega a una altra per terra per les cames. | F43: 1.71875 | G43: Baixa tot d’intensitat, al mínim | J43: Baix volum sonor | K43: - | L43: -3
A44: 42 | B44: 1.7708333 | C44: Mínim moviment, relaxació, introspecció, ulls tancats, 5-6 persones a terra | D44: 1.75 | E44: La persona fa la croqueta cap al la dreta de la sala. | F44: 1.7631944 | G44: Moviments ràpids però bastant continguts en espri i expansió | H44: El fade out és massa ràpid, comença tard perquè s'acaba el tema abans | J44: Baix volum sonor | K44: - | L44: -3 | N44: 1.7708333 | O44: Pulse final | P44: fade out | Q44: fade out
A45: 43 | D45: 1.8034722 | E45: Fan moviments molt més pausats. Hi ha persones que s'estiren a terra i fan estiraments de relaxació. | F45: 1.7708333 | G45: Moviments molt lents i minims. A partir d’aqui sembla que la gent es va apagant, gent es tira al terra, es deixa caure. Llums apagades
A46: 44 | D46: 1.8666667 | E46: És queden quiets. | F46: 1.8680556 | G46: Gent parada, nomès estiraments (com despertar de la sessió)
A47: 45 | D47: 1.875 | E47: El Joan fa una reverència

Sheet inductors
A1: Unitat de registre | B1: direcció-intensitat | C1: quantitat
A2: Joc amb globus | B2: 3 | C2: =COUNTIFS('objectes infantils indueixen'!$J2:$J47, "Joc amb globus", 'objectes infantils indueixen'!$L2:$L47, "3") -> 0
B3: 2 | C3: =COUNTIFS('objectes infantils indueixen'!$J2:$J47, "Joc amb globus", 'objectes infantils indueixen'!$L2:$L47, "2") -> 2
B4: 1 | C4: =COUNTIFS('objectes infantils indueixen'!$J2:$J47, "Joc amb globus", 'objectes infantils indueixen'!$L2:$L47, "1") -> 2
B5: -1 | C5: =COUNTIFS('objectes infantils indueixen'!$J2:$J47, "Joc amb globus", 'objectes infantils indueixen'!$L2:$L47, "-1") -> 2
B6: -2 | C6: =COUNTIFS('objectes infantils indueixen'!$J2:$J47, "Joc amb globus", 'objectes infantils indueixen'!$L2:$L47, "-2") -> 0
B7: -3 | C7: =COUNTIFS('objectes infantils indueixen'!$J2:$J47, "Joc amb globus", 'objectes infantils indueixen'!$L2:$L47, "-3") -> 0
A8: Posar un objecte de disfressa | B8: 3 | C8: =COUNTIFS('objectes infantils indueixen'!$J2:$J47, "Posar un objecte de disfressa", 'objectes infantils indueixen'!$L2:$L47, "3") -> 0
B9: 2 | C9: =COUNTIFS('objectes infantils indueixen'!$J2:$J47, "Posar un objecte de disfressa", 'objectes infantils indueixen'!$L2:$L47, "2") -> 1
B10: 1 | C10: =COUNTIFS('objectes infantils indueixen'!$J2:$J47, "Posar un objecte de disfressa", 'objectes infantils indueixen'!$L2:$L47, "1") -> 0
B11: -1 | C11: =COUNTIFS('objectes infantils indueixen'!$J2:$J47, "Posar un objecte de disfressa", 'objectes infantils indueixen'!$L2:$L47, "-1") -> 0
B12: -2 | C12: =COUNTIFS('objectes infantils indueixen'!$J2:$J47, "Posar un objecte de disfressa", 'objectes infantils indueixen'!$L2:$L47, "-2") -> 0
B13: -3 | C13: =COUNTIFS('objectes infantils indueixen'!$J2:$J47, "Posar un objecte de disfressa", 'objectes infantils indueixen'!$L2:$L47, "-3") -> 0
A14: Baix volum sonor | B14: 3 | C14: =COUNTIFS('objectes infantils indueixen'!$J2:$J47, "Baix volum sonor", 'objectes infantils indueixen'!$L2:$L47, "3") -> 0
B15: 2 | C15: =COUNTIFS('objectes infantils indueixen'!$J2:$J47, "Baix volum sonor", 'objectes infantils indueixen'!$L2:$L47, "2") -> 0
B16: 1 | C16: =COUNTIFS('objectes infantils indueixen'!$J2:$J47, "Baix volum sonor", 'objectes infantils indueixen'!$L2:$L47, "1") -> 0
B17: -1 | C17: =COUNTIFS('objectes infantils indueixen'!$J2:$J47, "Baix volum sonor", 'objectes infantils indueixen'!$L2:$L47, "-1") -> 1
B18: -2 | C18: =COUNTIFS('objectes infantils indueixen'!$J2:$J47, "Baix volum sonor", 'objectes infantils indueixen'!$L2:$L47, "-2") -> 1
B19: -3 | C19: =COUNTIFS('objectes infantils indueixen'!$J2:$J47, "Baix volum sonor", 'objectes infantils indueixen'!$L2:$L47, "-3") -> 3
A20: Volum sonor creixent | B20: 3 | C20: =COUNTIFS('objectes infantils indueixen'!$J2:$J47, "Volum sonor creixent", 'objectes infantils indueixen'!$L2:$L47, "3") -> 0
B21: 2 | C21: =COUNTIFS('objectes infantils indueixen'!$J2:$J47, "Volum sonor creixent", 'objectes infantils indueixen'!$L2:$L47, "2") -> 2
B22: 1 | C22: =COUNTIFS('objectes infantils indueixen'!$J2:$J47, "Volum sonor creixent", 'objectes infantils indueixen'!$L2:$L47, "1") -> 0
B23: -1 | C23: =COUNTIFS('objectes infantils indueixen'!$J2:$J47, "Volum sonor creixent", 'objectes infantils indueixen'!$L2:$L47, "-1") -> 0
B24: -2 | C24: =COUNTIFS('objectes infantils indueixen'!$J2:$J47, "Volum sonor creixent", 'objectes infantils indueixen'!$L2:$L47, "-2") -> 0
B25: -3 | C25: =COUNTIFS('objectes infantils indueixen'!$J2:$J47, "Volum sonor creixent", 'objectes infantils indueixen'!$L2:$L47, "-3") -> 0
A26: Música repetitiva | B26: 3 | C26: =COUNTIFS('objectes infantils indueixen'!$J8:$J53, "Música repetitiva", 'objectes infantils indueixen'!$L8:$L53, "3") -> 4
B27: 2 | C27: =COUNTIFS('objectes infantils indueixen'!$J8:$J53, "Música repetitiva", 'objectes infantils indueixen'!$L8:$L53, "2") -> 4
B28: 1 | C28: =COUNTIFS('objectes infantils indueixen'!$J8:$J53, "Música repetitiva", 'objectes infantils indueixen'!$L8:$L53, "1") -> 1
B29: -1 | C29: =COUNTIFS('objectes infantils indueixen'!$J8:$J53, "Música repetitiva", 'objectes infantils indueixen'!$L8:$L53, "-1") -> 1
B30: -2 | C30: =COUNTIFS('objectes infantils indueixen'!$J8:$J53, "Música repetitiva", 'objectes infantils indueixen'!$L8:$L53, "-2") -> 0
B31: -3 | C31: =COUNTIFS('objectes infantils indueixen'!$J8:$J53, "Música repetitiva", 'objectes infantils indueixen'!$L8:$L53, "-3") -> 0
A32: llums alta intensitat | B32: 3 | C32: =COUNTIFS('objectes infantils indueixen'!$J11:$J56, "Música repetitiva", 'objectes infantils indueixen'!$L11:$L56, "-1") -> 1
A33: llums baixa intensitat | B33: -2 | C33: 1
